BEGIN:VCALENDAR
VERSION:2.0
PRODID:-//Missouri Mid-South Conference of the United Church of Christ - ECPv6.15.18//NONSGML v1.0//EN
CALSCALE:GREGORIAN
METHOD:PUBLISH
X-WR-CALNAME:Missouri Mid-South Conference of the United Church of Christ
X-ORIGINAL-URL:https://missourimidsouth.org
X-WR-CALDESC:Events for Missouri Mid-South Conference of the United Church of Christ
REFRESH-INTERVAL;VALUE=DURATION:PT1H
X-Robots-Tag:noindex
X-PUBLISHED-TTL:PT1H
BEGIN:VTIMEZONE
TZID:America/Chicago
BEGIN:DAYLIGHT
TZOFFSETFROM:-0600
TZOFFSETTO:-0500
TZNAME:CDT
DTSTART:20220313T080000
END:DAYLIGHT
BEGIN:STANDARD
TZOFFSETFROM:-0500
TZOFFSETTO:-0600
TZNAME:CST
DTSTART:20221106T070000
END:STANDARD
BEGIN:DAYLIGHT
TZOFFSETFROM:-0600
TZOFFSETTO:-0500
TZNAME:CDT
DTSTART:20230312T080000
END:DAYLIGHT
BEGIN:STANDARD
TZOFFSETFROM:-0500
TZOFFSETTO:-0600
TZNAME:CST
DTSTART:20231105T070000
END:STANDARD
BEGIN:DAYLIGHT
TZOFFSETFROM:-0600
TZOFFSETTO:-0500
TZNAME:CDT
DTSTART:20240310T080000
END:DAYLIGHT
BEGIN:STANDARD
TZOFFSETFROM:-0500
TZOFFSETTO:-0600
TZNAME:CST
DTSTART:20241103T070000
END:STANDARD
BEGIN:DAYLIGHT
TZOFFSETFROM:-0600
TZOFFSETTO:-0500
TZNAME:CDT
DTSTART:20250309T080000
END:DAYLIGHT
BEGIN:STANDARD
TZOFFSETFROM:-0500
TZOFFSETTO:-0600
TZNAME:CST
DTSTART:20251102T070000
END:STANDARD
BEGIN:DAYLIGHT
TZOFFSETFROM:-0600
TZOFFSETTO:-0500
TZNAME:CDT
DTSTART:20260308T080000
END:DAYLIGHT
BEGIN:STANDARD
TZOFFSETFROM:-0500
TZOFFSETTO:-0600
TZNAME:CST
DTSTART:20261101T070000
END:STANDARD
END:VTIMEZONE
BEGIN:VEVENT
DTSTART;TZID=America/Chicago:20251116T140000
DTEND;TZID=America/Chicago:20251116T160000
DTSTAMP:20260425T074718
CREATED:20251107T185825Z
LAST-MODIFIED:20251107T185825Z
UID:10000874-1763301600-1763308800@missourimidsouth.org
SUMMARY:Ordination of Sylvie Bowen-Bailey\, Samuel UCC\, Clayton
DESCRIPTION:Come join us to support and celebrate the ordination of Sylvie Bowen-Bailey. Ordination begins at 2:00 p.m. \n  \n 
URL:https://missourimidsouth.org/event/ordination-of-sylvie-bowen-bailey-samuel-ucc-clayton
LOCATION:Samuel UCC\, Clayton\, MO\, 320 N. Forsyth Blvd.\, Clayton\, Missouri\, 63105
CATEGORIES:Association Events,Featured Events
END:VEVENT
BEGIN:VEVENT
DTSTART;TZID=America/Chicago:20251004T090000
DTEND;TZID=America/Chicago:20251004T120000
DTSTAMP:20260425T074718
CREATED:20250911T153725Z
LAST-MODIFIED:20250930T153545Z
UID:10000861-1759568400-1759579200@missourimidsouth.org
SUMMARY:St. Louis Association Fall Meeting
DESCRIPTION:Fall Annual Business Meeting\nSaturday October 4\, 2025\nSamuel United Church of Christ\n320 Forsyth Blvd.\, Clayton\, MO 63105\n314-727-9540\n\nCheck-in and Light Breakfast Choices: 8:00 AM\nIntroductions\, Worship and Business Meeting: 9:00 AM\nAnticipated adjournment by Noon\n\nPlease register in advance and pay by credit card using this link:\n  \nIf you have questions\, please email the Association or call: 314-772-4772
URL:https://missourimidsouth.org/event/st-louis-association-fall-meeting-2
LOCATION:Samuel UCC\, Clayton\, MO\, 320 N. Forsyth Blvd.\, Clayton\, Missouri\, 63105
CATEGORIES:Association Events,Conference Events,Featured Events
ORGANIZER;CN="St. Louis Association":MAILTO:mms@mmsucc.org​
END:VEVENT
BEGIN:VEVENT
DTSTART;TZID=America/Chicago:20250308T160000
DTEND;TZID=America/Chicago:20250308T190000
DTSTAMP:20260425T074718
CREATED:20250224T170659Z
LAST-MODIFIED:20250224T170659Z
UID:10000759-1741449600-1741460400@missourimidsouth.org
SUMMARY:St. Patrick’s Dinner\, Samuel UCC\, Clayton\, MO
DESCRIPTION:Featuring donated meat and foods from Kern Meat Company and other supporters.\nSuggested donation $20 for adults\, $6 for children.\nFor almost 30 years\, UCC churches in the St. Louis area have sponsored the annual construction of a Habitat for Humanity house. \nAll clergy and congregational mission volunteers are invited to the annual St. Patrick’s Dinner kickoff fundraiser. \nFor tickets or reservations\, call 314-727-9640 or 314-374-4183.
URL:https://missourimidsouth.org/event/st-patricks-dinner-samuel-ucc-clayton-mo-2
LOCATION:Samuel UCC\, Clayton\, MO\, 320 N. Forsyth Blvd.\, Clayton\, Missouri\, 63105
CATEGORIES:Featured Events,Local Church Events,Ministry Partner Events
END:VEVENT
BEGIN:VEVENT
DTSTART;TZID=America/Chicago:20241110T150000
DTEND;TZID=America/Chicago:20241110T160000
DTSTAMP:20260425T074718
CREATED:20241029T160653Z
LAST-MODIFIED:20241029T160653Z
UID:10000725-1731250800-1731254400@missourimidsouth.org
SUMMARY:Ordination of Ben Favre\, Samuel UCC\, St. Louis
DESCRIPTION:Come join us to support and celebrate the ordination of Ben Favre. \nOrdination begins at 3:00pm
URL:https://missourimidsouth.org/event/ordination-of-ben-favre-samuel-ucc-st-louis
LOCATION:Samuel UCC\, Clayton\, MO\, 320 N. Forsyth Blvd.\, Clayton\, Missouri\, 63105
CATEGORIES:Association Events,Featured Events
END:VEVENT
BEGIN:VEVENT
DTSTART;TZID=America/Chicago:20240309T160000
DTEND;TZID=America/Chicago:20240309T190000
DTSTAMP:20260425T074718
CREATED:20240120T190706Z
LAST-MODIFIED:20240120T190706Z
UID:10000550-1710000000-1710010800@missourimidsouth.org
SUMMARY:St. Patrick’s Dinner\, Samuel UCC\, Clayton\, MO
DESCRIPTION:Featuring donated meat and foods from Kern Meat Company and other supporters.\nSuggested donation $20 for adults\, $6 for children.\nFor almost 30 years\, UCC churches in the St. Louis area have sponsored the annual construction of a Habitat for Humanity house. \nAll clergy and congregational mission volunteers are invited to the annual St. Patrick’s Dinner kickoff fundraiser. \nFor tickets or reservations\, call 314-727-9640 or 314-374-4183.
URL:https://missourimidsouth.org/event/st-patricks-dinner-samuel-ucc-clayton-mo
LOCATION:Samuel UCC\, Clayton\, MO\, 320 N. Forsyth Blvd.\, Clayton\, Missouri\, 63105
CATEGORIES:Local Church Events,Ministry Partner Events
END:VEVENT
BEGIN:VEVENT
DTSTART;TZID=America/Chicago:20230304T160000
DTEND;TZID=America/Chicago:20230304T190000
DTSTAMP:20260425T074718
CREATED:20230207T221118Z
LAST-MODIFIED:20230207T223858Z
UID:10000275-1677945600-1677956400@missourimidsouth.org
SUMMARY:Corned Beef Dinner
DESCRIPTION:Featuring Professional Chef from Kern Meat Company\nThis fundraiser has raised about $10\,000 annually (except during three years of COVID-19) for the UCC Habitat Build  — every cent given thanks to sponsors.
URL:https://missourimidsouth.org/event/corned-beef-dinner
LOCATION:Samuel UCC\, Clayton\, MO\, 320 N. Forsyth Blvd.\, Clayton\, Missouri\, 63105
CATEGORIES:Local Church Events
END:VEVENT
END:VCALENDAR