BEGIN:VCALENDAR
VERSION:2.0
PRODID:-//Missouri Mid-South Conference of the United Church of Christ - ECPv6.15.18//NONSGML v1.0//EN
CALSCALE:GREGORIAN
METHOD:PUBLISH
X-WR-CALNAME:Missouri Mid-South Conference of the United Church of Christ
X-ORIGINAL-URL:https://missourimidsouth.org
X-WR-CALDESC:Events for Missouri Mid-South Conference of the United Church of Christ
REFRESH-INTERVAL;VALUE=DURATION:PT1H
X-Robots-Tag:noindex
X-PUBLISHED-TTL:PT1H
BEGIN:VTIMEZONE
TZID:America/Chicago
BEGIN:DAYLIGHT
TZOFFSETFROM:-0600
TZOFFSETTO:-0500
TZNAME:CDT
DTSTART:20240310T080000
END:DAYLIGHT
BEGIN:STANDARD
TZOFFSETFROM:-0500
TZOFFSETTO:-0600
TZNAME:CST
DTSTART:20241103T070000
END:STANDARD
BEGIN:DAYLIGHT
TZOFFSETFROM:-0600
TZOFFSETTO:-0500
TZNAME:CDT
DTSTART:20250309T080000
END:DAYLIGHT
BEGIN:STANDARD
TZOFFSETFROM:-0500
TZOFFSETTO:-0600
TZNAME:CST
DTSTART:20251102T070000
END:STANDARD
BEGIN:DAYLIGHT
TZOFFSETFROM:-0600
TZOFFSETTO:-0500
TZNAME:CDT
DTSTART:20260308T080000
END:DAYLIGHT
BEGIN:STANDARD
TZOFFSETFROM:-0500
TZOFFSETTO:-0600
TZNAME:CST
DTSTART:20261101T070000
END:STANDARD
END:VTIMEZONE
BEGIN:VTIMEZONE
TZID:America/Los_Angeles
BEGIN:DAYLIGHT
TZOFFSETFROM:-0800
TZOFFSETTO:-0700
TZNAME:PDT
DTSTART:20240310T100000
END:DAYLIGHT
BEGIN:STANDARD
TZOFFSETFROM:-0700
TZOFFSETTO:-0800
TZNAME:PST
DTSTART:20241103T090000
END:STANDARD
BEGIN:DAYLIGHT
TZOFFSETFROM:-0800
TZOFFSETTO:-0700
TZNAME:PDT
DTSTART:20250309T100000
END:DAYLIGHT
BEGIN:STANDARD
TZOFFSETFROM:-0700
TZOFFSETTO:-0800
TZNAME:PST
DTSTART:20251102T090000
END:STANDARD
BEGIN:DAYLIGHT
TZOFFSETFROM:-0800
TZOFFSETTO:-0700
TZNAME:PDT
DTSTART:20260308T100000
END:DAYLIGHT
BEGIN:STANDARD
TZOFFSETFROM:-0700
TZOFFSETTO:-0800
TZNAME:PST
DTSTART:20261101T090000
END:STANDARD
END:VTIMEZONE
BEGIN:VEVENT
DTSTART;TZID=America/Chicago:20250810T111500
DTEND;TZID=America/Chicago:20250810T130000
DTSTAMP:20260422T101148
CREATED:20250519T150244Z
LAST-MODIFIED:20250519T150244Z
UID:10000841-1754824500-1754830800@missourimidsouth.org
SUMMARY:Speaker Series: "This Old House Comes to Parkway\," by Ted Swider\, Parkway UCC\, Town & Country
DESCRIPTION:Ted Swider is a self-taught craftsman\, stone mason\, designer\, architect\, entrepreneur\, real estate investor\, and general contractor. He loves pushing creative boundaries\, paying homage to history\, and sourcing local materials. Ted vows he can build anything and he will prove it with his account and photo journey of two of his most unusual projects; one converting a fire damaged\, condemned wreck of a structure in the Gravois Park neighborhood into a modern home\, and the other a Land Reutilization Authority property he bought for $1\,000.00 and converted into a Southside jewel.\n\n\n\n\n\n\n\n\n\n\n\n\n\n\nThis is one of Parkway’s acclaimed Speakers Series program and all are welcome from the Missouri Mid-South Conference community.\n\n\n\n  \nThe speaker will appear live in Parkway’s Heritage Room.
URL:https://missourimidsouth.org/event/speaker-series-this-old-house-comes-to-parkway-by-ted-swider-parkway-ucc-town-country
LOCATION:Parkway UCC\, St. Louis\, MO\, 2841 N. Ballas Road\, St. Louis\, Missouri\, 63131
CATEGORIES:Featured Events,Local Church Events
END:VEVENT
BEGIN:VEVENT
DTSTART;TZID=America/Los_Angeles:20250811T090000
DTEND;TZID=America/Los_Angeles:20250811T120000
DTSTAMP:20260422T101148
CREATED:20250109T190558Z
LAST-MODIFIED:20250109T190558Z
UID:10000746-1754902800-1754913600@missourimidsouth.org
SUMMARY:Boundary Awareness Training
DESCRIPTION:Register Here
URL:https://missourimidsouth.org/event/boundary-awareness-training-21
CATEGORIES:Conference Events,Featured Events
END:VEVENT
BEGIN:VEVENT
DTSTART;TZID=America/Los_Angeles:20250812T090000
DTEND;TZID=America/Los_Angeles:20250812T120000
DTSTAMP:20260422T101148
CREATED:20250109T190613Z
LAST-MODIFIED:20250226T150032Z
UID:10000747-1754989200-1755000000@missourimidsouth.org
SUMMARY:Boundary Awareness Training
DESCRIPTION:Register Here \n  \nClick HERE for event flyer
URL:https://missourimidsouth.org/event/boundary-awareness-training-22
CATEGORIES:Conference Events,Featured Events
END:VEVENT
BEGIN:VEVENT
DTSTART;TZID=America/Chicago:20250817T111500
DTEND;TZID=America/Chicago:20250817T130000
DTSTAMP:20260422T101148
CREATED:20250519T150426Z
LAST-MODIFIED:20250519T150426Z
UID:10000842-1755429300-1755435600@missourimidsouth.org
SUMMARY:Speaker Series: “Fifty Years of Living My Dream\,” by St. Louis artist Tim Eberhardt\, Parkway UCC\, Town & Country
DESCRIPTION:Tim Eberhardt is a St. Louis artist whose 50 years of making art include paintings\, photographs\, pottery\, sculpture\, jewelry\, and what he calls hyper-realistic figurative sculptures that speak or act when people approach. \nJoin us for this speakers series program as we honor Tim’s legacy to creative and diverse art.\n\n\n\n\n\n\n\n\n\n\n\n\n\n\nThis is one of Parkway’s acclaimed Speakers Series program and all are welcome from the Missouri Mid-South Conference community.\n\n\n\n  \nThe speaker will appear live in Parkway’s Heritage Room.
URL:https://missourimidsouth.org/event/speaker-series-fifty-years-of-living-my-dream-by-st-louis-artist-tim-eberhardt-parkway-ucc-town-country
LOCATION:Parkway UCC\, St. Louis\, MO\, 2841 N. Ballas Road\, St. Louis\, Missouri\, 63131
CATEGORIES:Featured Events,Local Church Events
END:VEVENT
BEGIN:VEVENT
DTSTART;TZID=America/Chicago:20250817T113000
DTEND;TZID=America/Chicago:20250817T180000
DTSTAMP:20260422T101148
CREATED:20250811T190240Z
LAST-MODIFIED:20250811T190240Z
UID:10000851-1755430200-1755453600@missourimidsouth.org
SUMMARY:Annual Picnic\, Femme Osage UCC\, Augusta MO
DESCRIPTION:https://www.facebook.com/femmeosagechurch \n  \nAll you can eat\, cafeteria-style dining \nAdults $16.00 \nChildren 6 and up $8.00 \nChildren under 6 FREE \n 
URL:https://missourimidsouth.org/event/annual-picnic-femme-osage-ucc-augusta-mo
LOCATION:Femme Osage UCC\, Augusta\, MO\, 4360 Cappeln Osage Road\, Augusta\, 63332\, United States
CATEGORIES:Featured Events,Local Church Events
END:VEVENT
BEGIN:VEVENT
DTSTART;TZID=America/Chicago:20250821T180000
DTEND;TZID=America/Chicago:20250821T190000
DTSTAMP:20260422T101148
CREATED:20250821T173718Z
LAST-MODIFIED:20250821T173718Z
UID:10000852-1755799200-1755802800@missourimidsouth.org
SUMMARY:All-In UCC: All-In Tour Kick Off Event\, Virtual
DESCRIPTION:All-In tour 25 kickoff FLYER \nGreetings\, Missouri Mid-South! \n  \nI wanted to invite you all to a special hybrid event All-In UCC & Music Project is hosting on August 28 at Zion UCC in Union and online! \n  \nOn September 8\, I will be presenting a paper to the Born to Run at 50 Conference at the Bruce Springsteen Archives at Monmouth University in West Long Branch\, NJ! The paper is entitled “Born to Run: An Expression of the Liberative\, Divine Movement That Is Rock n Roll.” This opportunity created another opportunity: reviving the All-In Tour. \n  \nWith the support of the Eastern Association\, I did my first such tour in 2013 on my way to General Synod in Long Beach\, playing shows in food pantries\, homeless shelters\, and other ministries for the impoverished. I did several more after that which included shows at churches\, regular venues\, and included educational components for fellow travelers. It is time to bring it back\, so I will be doing a short All-In Tour in the northeast in the week leading up to the conference\, hopefully with my family accompanying me. The event on August 28th is a tour kick off; your chance to experience the music and presentation I’ll be sharing during the tour\, and an opportunity to send us off well. It is free\, but we will collect donations to support the effort. \n  \nI hope you will join us in-person or online. You may also be interested in: \n– Watching this video to learn more about what the All-In Tour is and why I do it: https://youtu.be/dT2EPsgbtaQ?feature=shared – Donate now to directly support the tour: https://www.zeffy.com/en-US/donation-form/support-the-all-in-tour – Purchase All-In merchandise here: https://www.bonfire.com/store/all-things-all-in/ \nThere are many designs\, colors\, and styles available for men\, women\, and youth. All of the proceeds support the All-In Tour and the ongoing ministries of All-In UCC & Music Project. \n– Share the attached flier with your congregation and friends who may be interested. \n  \nThank you so much for all of the support over the years and in All-In’s ministry. See you soon! \n  \nKeep On\, \nRev. Eric Moeller
URL:https://missourimidsouth.org/event/all-in-ucc-all-in-tour-kick-off-event-virtual/2025-08-21
LOCATION:virtual
CATEGORIES:Featured Events,Local Church Events
END:VEVENT
BEGIN:VEVENT
DTSTART;TZID=America/Chicago:20250828T180000
DTEND;TZID=America/Chicago:20250828T190000
DTSTAMP:20260422T101148
CREATED:20250821T173718Z
LAST-MODIFIED:20250821T173718Z
UID:10000853-1756404000-1756407600@missourimidsouth.org
SUMMARY:All-In UCC: All-In Tour Kick Off Event\, Virtual
DESCRIPTION:All-In tour 25 kickoff FLYER \nGreetings\, Missouri Mid-South! \n  \nI wanted to invite you all to a special hybrid event All-In UCC & Music Project is hosting on August 28 at Zion UCC in Union and online! \n  \nOn September 8\, I will be presenting a paper to the Born to Run at 50 Conference at the Bruce Springsteen Archives at Monmouth University in West Long Branch\, NJ! The paper is entitled “Born to Run: An Expression of the Liberative\, Divine Movement That Is Rock n Roll.” This opportunity created another opportunity: reviving the All-In Tour. \n  \nWith the support of the Eastern Association\, I did my first such tour in 2013 on my way to General Synod in Long Beach\, playing shows in food pantries\, homeless shelters\, and other ministries for the impoverished. I did several more after that which included shows at churches\, regular venues\, and included educational components for fellow travelers. It is time to bring it back\, so I will be doing a short All-In Tour in the northeast in the week leading up to the conference\, hopefully with my family accompanying me. The event on August 28th is a tour kick off; your chance to experience the music and presentation I’ll be sharing during the tour\, and an opportunity to send us off well. It is free\, but we will collect donations to support the effort. \n  \nI hope you will join us in-person or online. You may also be interested in: \n– Watching this video to learn more about what the All-In Tour is and why I do it: https://youtu.be/dT2EPsgbtaQ?feature=shared – Donate now to directly support the tour: https://www.zeffy.com/en-US/donation-form/support-the-all-in-tour – Purchase All-In merchandise here: https://www.bonfire.com/store/all-things-all-in/ \nThere are many designs\, colors\, and styles available for men\, women\, and youth. All of the proceeds support the All-In Tour and the ongoing ministries of All-In UCC & Music Project. \n– Share the attached flier with your congregation and friends who may be interested. \n  \nThank you so much for all of the support over the years and in All-In’s ministry. See you soon! \n  \nKeep On\, \nRev. Eric Moeller
URL:https://missourimidsouth.org/event/all-in-ucc-all-in-tour-kick-off-event-virtual/2025-08-28
LOCATION:virtual
CATEGORIES:Featured Events,Local Church Events
END:VEVENT
END:VCALENDAR